BEGIN:VCALENDAR
VERSION:2.0
PRODID:-//ChamberMaster//Event Calendar 2.0//EN
METHOD:PUBLISH
X-PUBLISHED-TTL:P3D
REFRESH-INTERVAL:P3D
CALSCALE:GREGORIAN
BEGIN:VEVENT
DTSTART:20240319T180000Z
DTEND:20240319T190000Z
X-MICROSOFT-CDO-ALLDAYEVENT:FALSE
SUMMARY:SBDC LA: Elevate Your Business Plan with Software Powered Innovation
DESCRIPTION:Unlock the true potential of your business with our upcoming webinar\, "Elevate Your Business Plan with Software Powered Innovation." Dive into a comprehensive workshop designed to elevate your business planning process\, ensuring that you not only chart a course for success but do so efficiently and effortlessly.\n\n\n\nIn this power-packed session\, we will guide you through multiple facets of creating a robust business plan\, whether you're forging an internal roadmap or seeking funding. Discover the art of setting measurable strategies and tactics\, key elements that propel businesses towards their goals.\n\n\n\nWhat makes this webinar stand out? We're introducing a cutting-edge business plan software\, a revolutionary tool designed to streamline the planning process and make it more intuitive than ever before. Say goodbye to complexity and welcome a seamless experience that empowers you to focus on what truly matters   the growth and success of your business.\n\n\n\nJoin us as we revolutionize your approach to business planning. It's not just a webinar\; it's your gateway to strategic excellence and a future of unprecedented success. Don't miss out on this transformative event   secure your spot today!
X-ALT-DESC;FMTTYPE=text/html:Unlock the true potential of your business with our upcoming webinar\, &ldquo\;Elevate Your Business Plan with Software Powered Innovation.&rdquo\; Dive into a comprehensive workshop designed to elevate your business planning process\, ensuring that you not only chart a course for success but do so efficiently and effortlessly.<br />\n<br />\nIn this power-packed session\, we will guide you through multiple facets of creating a robust business plan\, whether you&rsquo\;re forging an internal roadmap or seeking funding. Discover the art of setting measurable strategies and tactics\, key elements that propel businesses towards their goals.<br />\n<br />\nWhat makes this webinar stand out? We&rsquo\;re introducing a cutting-edge business plan software\, a revolutionary tool designed to streamline the planning process and make it more intuitive than ever before. Say goodbye to complexity and welcome a seamless experience that empowers you to focus on what truly matters &ndash\; the growth and success of your business.<br />\n<br />\nJoin us as we revolutionize your approach to business planning. It&rsquo\;s not just a webinar\; it&rsquo\;s your gateway to strategic excellence and a future of unprecedented success. Don&rsquo\;t miss out on this transformative event &ndash\; secure your spot today!
LOCATION:VIRTUAL - REGISTER HERE
UID:e.2438.9401
SEQUENCE:3
DTSTAMP:20260419T160019Z
URL:https://business.hbchamber.net/events/details/sbdc-la-elevate-your-business-plan-with-software-powered-innovation-9401
END:VEVENT

END:VCALENDAR
