BEGIN:VCALENDAR
VERSION:2.0
PRODID:-//ChamberMaster//Event Calendar 2.0//EN
METHOD:PUBLISH
X-PUBLISHED-TTL:P3D
REFRESH-INTERVAL:P3D
CALSCALE:GREGORIAN
BEGIN:VEVENT
DTSTART:20220318T210000Z
DTEND:20220318T220000Z
X-MICROSOFT-CDO-ALLDAYEVENT:FALSE
SUMMARY:SBDC LA: E-mail Marketing 101
DESCRIPTION:Email Marketing. You probably have several marketing emails sitting in your spam or subscriptions folder right now! Email is sooo yesterday you think to yourself. Wrong. Email Marketing is still one of the most effective marketing channels a business owner has at their disposal!\n\nBut\, smart business owners know that it takes more than just blasting your customers with announcements. No. Because you are a Smart Business Owner\, you know it takes Smart Marketing (Smartketing) to get your business to the next level and that's what we'll teach you how to do in this webinar.\n\nYou'll learn why Email Marketing is so effective and how you can leverage email to boost your business.\n\nSome of what you'll learn at our Email marketing webinar:\n\n  Customer Segmentation\n\n  Transactional Emails\n\n  Marketing Automation triggers like abandoned cart emails\, site visits\, and more\n\n  Lead Nurturing\n\n  Popular Email Service Providers\n\n  How to combine various aspects of Email Marketing for your business
X-ALT-DESC;FMTTYPE=text/html:<p style="box-sizing: border-box\; margin: 0px 0px 10px\; padding: 0px\; border: 0px\; font-variant-numeric: inherit\; font-variant-east-asian: inherit\; font-stretch: inherit\; line-height: 1.7\; font-family: &quot\;Proxima N W01 Light&quot\;\, Helvetica\, Arial\, sans-serif\; font-size: 18px\; vertical-align: baseline\; color: rgb(49\, 49\, 49)\;">Email Marketing. You probably have several marketing emails sitting in your spam or subscriptions folder right now!&nbsp\;<em style="box-sizing: border-box\; margin: 0px\; padding: 0px\; border: 0px\; font-variant: inherit\; font-weight: inherit\; font-stretch: inherit\; line-height: inherit\; font-family: inherit\; vertical-align: baseline\;">Email is sooo yesterday</em>&nbsp\;you think to yourself. Wrong. Email Marketing is still one of the most effective marketing channels a business owner has at their disposal!</p>\n\n<p style="box-sizing: border-box\; margin: 0px 0px 10px\; padding: 0px\; border: 0px\; font-variant-numeric: inherit\; font-variant-east-asian: inherit\; font-stretch: inherit\; line-height: 1.7\; font-family: &quot\;Proxima N W01 Light&quot\;\, Helvetica\, Arial\, sans-serif\; font-size: 18px\; vertical-align: baseline\; color: rgb(49\, 49\, 49)\;">But\, smart business owners know that it takes more than just blasting your customers with announcements. No. Because you are a Smart Business Owner\, you know it takes Smart Marketing (Smartketing) to get your business to the next level and that&rsquo\;s what we&rsquo\;ll teach you how to do in this webinar.</p>\n\n<p style="box-sizing: border-box\; margin: 0px 0px 10px\; padding: 0px\; border: 0px\; font-variant-numeric: inherit\; font-variant-east-asian: inherit\; font-stretch: inherit\; line-height: 1.7\; font-family: &quot\;Proxima N W01 Light&quot\;\, Helvetica\, Arial\, sans-serif\; font-size: 18px\; vertical-align: baseline\; color: rgb(49\, 49\, 49)\;">You&rsquo\;ll learn why Email Marketing is so effective and how you can leverage email to boost your business.</p>\n\n<p style="box-sizing: border-box\; margin: 0px 0px 10px\; padding: 0px\; border: 0px\; font-variant-numeric: inherit\; font-variant-east-asian: inherit\; font-stretch: inherit\; line-height: 1.7\; font-family: &quot\;Proxima N W01 Light&quot\;\, Helvetica\, Arial\, sans-serif\; font-size: 18px\; vertical-align: baseline\; color: rgb(49\, 49\, 49)\;"><span style="box-sizing: border-box\; margin: 0px\; padding: 0px\; border: 0px\; font-style: inherit\; font-variant: inherit\; font-weight: inherit\; font-stretch: inherit\; line-height: inherit\; font-family: &quot\;Proxima N W01 Smbd&quot\;\; vertical-align: baseline\;">Some of what you&rsquo\;ll learn at our Email marketing webinar:</span><br style="box-sizing: border-box\;" />\n&bull\; Customer Segmentation<br style="box-sizing: border-box\;" />\n&bull\; Transactional Emails<br style="box-sizing: border-box\;" />\n&bull\; Marketing Automation triggers like abandoned cart emails\, site visits\, and more<br style="box-sizing: border-box\;" />\n&bull\; Lead Nurturing<br style="box-sizing: border-box\;" />\n&bull\; Popular Email Service Providers<br style="box-sizing: border-box\;" />\n&bull\; How to combine various aspects of Email Marketing for your business</p>\n
LOCATION:VIRTUAL - REGISTER HERE
UID:e.2438.5319
SEQUENCE:3
DTSTAMP:20260421T105231Z
URL:https://business.hbchamber.net/events/details/sbdc-la-e-mail-marketing-101-5319
END:VEVENT

END:VCALENDAR
