BEGIN:VCALENDAR
VERSION:2.0
PRODID:-//ChamberMaster//Event Calendar 2.0//EN
METHOD:PUBLISH
X-PUBLISHED-TTL:P3D
REFRESH-INTERVAL:P3D
CALSCALE:GREGORIAN
BEGIN:VEVENT
DTSTART:20240207T170000Z
DTEND:20240207T180000Z
X-MICROSOFT-CDO-ALLDAYEVENT:FALSE
SUMMARY:SBDC LA: Contracting as a Second Language – Diversify to Survive
DESCRIPTION:Small Businesses are leaving an astounding amount of money on the table   This training is about showing up and taking your share!!\n\n\n\nThe federal government alone spent almost $250B with small businesses in 2018! More money would be set aside for small businesses\, if they only show up. The story is the same on the city/state and corporate levels. RightSource Services has partnered with the Los Angeles Small Business Development Center to train established small businesses to participate in the incredible procurement opportunities available through corporate and government entities. The training takes companies from identifying opportunities all the way to responding to their first request.\n\n\n\nThe webinar gives an overview of the opportunities available and the training provided by RightSource Services and the LA-SBDC to compete effectively and grow your business.\n\n\n\nRightSource follows that up with a cohort structured\, six-class series with workshops to get procurement ready businesses through the certification and registration processes and on to actually responding to a contract solicitation.
X-ALT-DESC;FMTTYPE=text/html:Small Businesses are leaving an astounding amount of money on the table &ndash\; This training is about showing up and taking your share!!<br />\n<br />\nThe federal government alone spent almost $250B with small businesses in 2018! More money would be set aside for small businesses\, if they only show up. The story is the same on the city/state and corporate levels. RightSource Services has partnered with the Los Angeles Small Business Development Center to train established small businesses to participate in the incredible procurement opportunities available through corporate and government entities. The training takes companies from identifying opportunities all the way to responding to their first request.<br />\n<br />\nThe webinar gives an overview of the opportunities available and the training provided by RightSource Services and the LA-SBDC to compete effectively and grow your business.<br />\n<br />\nRightSource follows that up with a cohort structured\, six-class series with workshops to get procurement ready businesses through the certification and registration processes and on to actually responding to a contract solicitation.
LOCATION:VIRTUAL - REGISTER HERE
UID:e.2438.9288
SEQUENCE:3
DTSTAMP:20260419T131402Z
URL:https://business.hbchamber.net/events/details/sbdc-la-contracting-as-a-second-language-diversify-to-survive-9288
END:VEVENT

END:VCALENDAR
