BEGIN:VCALENDAR
VERSION:2.0
PRODID:-//ChamberMaster//Event Calendar 2.0//EN
METHOD:PUBLISH
X-PUBLISHED-TTL:P3D
REFRESH-INTERVAL:P3D
CALSCALE:GREGORIAN
BEGIN:VEVENT
DTSTART:20240222T180000Z
DTEND:20240222T193000Z
X-MICROSOFT-CDO-ALLDAYEVENT:FALSE
SUMMARY:SBDC LA: Canva Magic for Small Businesses
DESCRIPTION:Unlock the secrets of visual storytelling for your business with our exclusive webinar on "Canva Magic for Small Business Owners." Whether you're a budding entrepreneur or a seasoned business owner\, mastering the art of graphic design can elevate your brand's presence and captivate your audience.\n\n\n\nIntroduction to Canva: Dive deep into the world of Canva\, a user-friendly graphic design tool tailored for non-designers\n\nTemplates & Tools: Explore a plethora of templates suitable for various business needs\, from social media posts to business presentations.\n\nBranding Basics: Learn how to maintain brand consistency using Canva's color palettes\, fonts\, and logo placements.\n\nEngaging Graphics: Discover the secrets to creating compelling visuals that resonate with your target audience.\n\nAdvanced Features: Unearth hidden Canva features that can give your designs a professional edge.\n\nTime-saving Tips: Efficiently navigate Canva's interface and utilize shortcuts to speed up your design process.\n\nCanva Magic AI: Design for Video\, Presentations\, Editing\, Text to Image\, Text to Video and much much more\n\nWho Should Attend?\n\n\n\nSmall business owners looking to enhance their online presence.\n\nEntrepreneurs aiming to create impactful marketing materials.\n\nAnyone interested in learning the basics of graphic design without the complexities of advanced software.
X-ALT-DESC;FMTTYPE=text/html:<p style="box-sizing: border-box\; margin: 0px 0px 10px\; padding: 0px\; border: 0px\; font-variant-numeric: inherit\; font-variant-east-asian: inherit\; font-variant-alternates: inherit\; font-variant-position: inherit\; font-stretch: inherit\; line-height: 1.7\; font-family: &quot\;Proxima N W01 Light&quot\;\, Helvetica\, Arial\, sans-serif\; font-optical-sizing: inherit\; font-kerning: inherit\; font-feature-settings: inherit\; font-variation-settings: inherit\; font-size: 18px\; vertical-align: baseline\; color: rgb(49\, 49\, 49)\;">Unlock the secrets of visual storytelling for your business with our exclusive webinar on &ldquo\;Canva Magic for Small Business Owners.&rdquo\; Whether you&rsquo\;re a budding entrepreneur or a seasoned business owner\, mastering the art of graphic design can elevate your brand&rsquo\;s presence and captivate your audience.<br />\n<br />\nIntroduction to Canva: Dive deep into the world of Canva\, a user-friendly graphic design tool tailored for non-designers<br />\nTemplates &amp\; Tools: Explore a plethora of templates suitable for various business needs\, from social media posts to business presentations.<br />\nBranding Basics: Learn how to maintain brand consistency using Canva&rsquo\;s color palettes\, fonts\, and logo placements.<br />\nEngaging Graphics: Discover the secrets to creating compelling visuals that resonate with your target audience.<br />\nAdvanced Features: Unearth hidden Canva features that can give your designs a professional edge.<br />\nTime-saving Tips: Efficiently navigate Canva&rsquo\;s interface and utilize shortcuts to speed up your design process.<br />\nCanva Magic AI: Design for Video\, Presentations\, Editing\, Text to Image\, Text to Video and much much more<br />\nWho Should Attend?<br />\n<br />\nSmall business owners looking to enhance their online presence.<br />\nEntrepreneurs aiming to create impactful marketing materials.<br />\nAnyone interested in learning the basics of graphic design without the complexities of advanced software.</p>\n
LOCATION:VIRTUAL - REGISTER HERE
UID:e.2438.9349
SEQUENCE:3
DTSTAMP:20260419T131505Z
URL:https://business.hbchamber.net/events/details/sbdc-la-canva-magic-for-small-businesses-9349
END:VEVENT

END:VCALENDAR
