BEGIN:VCALENDAR
VERSION:2.0
PRODID:-//ChamberMaster//Event Calendar 2.0//EN
METHOD:PUBLISH
X-PUBLISHED-TTL:P3D
REFRESH-INTERVAL:P3D
CALSCALE:GREGORIAN
BEGIN:VEVENT
DTSTART:20220321T213000Z
DTEND:20220321T230000Z
X-MICROSOFT-CDO-ALLDAYEVENT:FALSE
SUMMARY:SBDC LA: Business Planning for Your Restaurant or Food Service Business
DESCRIPTION:In this webinar\, you will discover the essential components of a restaurant business plan to help increase your chances of success and present your plan to investors and financial institutions. Topics will cover concept creation\, organizational structure\, marketing plan and SWOT analysis\, necessary operational considerations\, and an overview of financial projections.
X-ALT-DESC;FMTTYPE=text/html:<p style="box-sizing: border-box\; margin: 0px 0px 10px\; padding: 0px\; border: 0px\; font-variant-numeric: inherit\; font-variant-east-asian: inherit\; font-stretch: inherit\; line-height: 1.7\; font-family: &quot\;Proxima N W01 Light&quot\;\, Helvetica\, Arial\, sans-serif\; font-size: 18px\; vertical-align: baseline\; color: rgb(49\, 49\, 49)\;">In this webinar\, you will discover the essential components of a restaurant business plan to help increase your chances of success and present your plan to investors and financial institutions. Topics will cover concept creation\, organizational structure\, marketing plan and SWOT analysis\, necessary operational considerations\, and an overview of financial projections.</p>\n
LOCATION:VIRTUAL - REGISTER HERE
UID:e.2438.5320
SEQUENCE:3
DTSTAMP:20260421T110101Z
URL:https://business.hbchamber.net/events/details/sbdc-la-business-planning-for-your-restaurant-or-food-service-business-5320
END:VEVENT

END:VCALENDAR
