BEGIN:VCALENDAR
VERSION:2.0
PRODID:-//ChamberMaster//Event Calendar 2.0//EN
METHOD:PUBLISH
X-PUBLISHED-TTL:P3D
REFRESH-INTERVAL:P3D
CALSCALE:GREGORIAN
BEGIN:VEVENT
DTSTART:20220217T180000Z
DTEND:20220217T190000Z
X-MICROSOFT-CDO-ALLDAYEVENT:FALSE
SUMMARY:SBDC LA: Business Finance Literacy 101 (Class 2 of 2)
DESCRIPTION:Business owners struggle with business decisions that affect the financial health of their company. Are we selling at the right price? Are we making money? Can we afford to hire someone?\n\nMany times\, these decisions are made without a thorough understanding of the financial implications. This does not need to be the case. There are simple mathematical calculations that can be used to answer key business questions.\n\nPerformance Measurements are simple mathematical calculations that can be used to monitor sales\, overhead and profitability. They can be applied to any business\, independent of size and scope. This session will teach you how to calculate performance measurements for your company.\n\nIn this session you will learn:\n\n  How to use financial calculations to manage your company\n\n  How the company's financials can be used to make key business decisions\n\n  How performance measurements can be used to forecast sales\, cost and make hiring decisions\n\n  How to address issues such as drop in sales\, increase in expenses or other company disasters
X-ALT-DESC;FMTTYPE=text/html:<p style="box-sizing: border-box\; margin: 0px 0px 10px\; padding: 0px\; border: 0px\; font-variant-numeric: inherit\; font-variant-east-asian: inherit\; font-stretch: inherit\; line-height: 1.7\; font-family: &quot\;Proxima N W01 Light&quot\;\, Helvetica\, Arial\, sans-serif\; font-size: 18px\; vertical-align: baseline\; color: rgb(49\, 49\, 49)\;">Business owners struggle with business decisions that affect the financial health of their company. Are we selling at the right price? Are we making money? Can we afford to hire someone?</p>\n\n<p style="box-sizing: border-box\; margin: 0px 0px 10px\; padding: 0px\; border: 0px\; font-variant-numeric: inherit\; font-variant-east-asian: inherit\; font-stretch: inherit\; line-height: 1.7\; font-family: &quot\;Proxima N W01 Light&quot\;\, Helvetica\, Arial\, sans-serif\; font-size: 18px\; vertical-align: baseline\; color: rgb(49\, 49\, 49)\;">Many times\, these decisions are made without a thorough understanding of the financial implications. This does not need to be the case. There are simple mathematical calculations that can be used to answer key business questions.</p>\n\n<p style="box-sizing: border-box\; margin: 0px 0px 10px\; padding: 0px\; border: 0px\; font-variant-numeric: inherit\; font-variant-east-asian: inherit\; font-stretch: inherit\; line-height: 1.7\; font-family: &quot\;Proxima N W01 Light&quot\;\, Helvetica\, Arial\, sans-serif\; font-size: 18px\; vertical-align: baseline\; color: rgb(49\, 49\, 49)\;">Performance Measurements are simple mathematical calculations that can be used to monitor sales\, overhead and profitability. They can be applied to any business\, independent of size and scope. This session will teach you how to calculate performance measurements for your company.</p>\n\n<p style="box-sizing: border-box\; margin: 0px 0px 10px\; padding: 0px\; border: 0px\; font-variant-numeric: inherit\; font-variant-east-asian: inherit\; font-stretch: inherit\; line-height: 1.7\; font-family: &quot\;Proxima N W01 Light&quot\;\, Helvetica\, Arial\, sans-serif\; font-size: 18px\; vertical-align: baseline\; color: rgb(49\, 49\, 49)\;"><span style="box-sizing: border-box\; margin: 0px\; padding: 0px\; border: 0px\; font-style: inherit\; font-variant: inherit\; font-weight: inherit\; font-stretch: inherit\; line-height: inherit\; font-family: &quot\;Proxima N W01 Smbd&quot\;\; vertical-align: baseline\;">In this session you will learn:</span><br style="box-sizing: border-box\;" />\n&bull\; How to use financial calculations to manage your company<br style="box-sizing: border-box\;" />\n&bull\; How the company&rsquo\;s financials can be used to make key business decisions<br style="box-sizing: border-box\;" />\n&bull\; How performance measurements can be used to forecast sales\, cost and make hiring decisions<br style="box-sizing: border-box\;" />\n&bull\; How to address issues such as drop in sales\, increase in expenses or other company disasters</p>\n
LOCATION:VIRTUAL - REGISTER HERE
UID:e.2438.5147
SEQUENCE:3
DTSTAMP:20260421T134619Z
URL:https://business.hbchamber.net/events/details/sbdc-la-business-finance-literacy-101-class-2-of-2-5147
END:VEVENT

END:VCALENDAR
