BEGIN:VCALENDAR
VERSION:2.0
PRODID:-//ChamberMaster//Event Calendar 2.0//EN
METHOD:PUBLISH
X-PUBLISHED-TTL:P3D
REFRESH-INTERVAL:P3D
CALSCALE:GREGORIAN
BEGIN:VEVENT
DTSTART:20220324T170000Z
DTEND:20220324T183000Z
X-MICROSOFT-CDO-ALLDAYEVENT:FALSE
SUMMARY:SBDC LA: Blogging For Your Business
DESCRIPTION:In this webinar\, we will cover:\n\n\n	How to create topics\n	Writing and editing\n	Research and SEO\n	Promotion strategies\n	Live Q & A
X-ALT-DESC;FMTTYPE=text/html:<p class="_04xlpA direction-ltr align-start para-style-body" style="box-sizing: border-box\; margin: 0px 0px 10px\; padding: 0px\; border: 0px\; font-variant-numeric: inherit\; font-variant-east-asian: inherit\; font-stretch: inherit\; line-height: 1.7\; font-family: &quot\;Proxima N W01 Light&quot\;\, Helvetica\, Arial\, sans-serif\; font-size: 18px\; vertical-align: baseline\; color: rgb(49\, 49\, 49)\;"><span class="JsGRdQ" style="box-sizing: border-box\; margin: 0px\; padding: 0px\; border: 0px\; font-style: inherit\; font-variant: inherit\; font-weight: inherit\; font-stretch: inherit\; line-height: inherit\; font-family: inherit\; vertical-align: baseline\;">In this webinar\, we will cover:</span></p>\n\n<ul style="box-sizing: border-box\; margin: 0.25em 1em\; padding-right: 0px\; padding-left: 0px\; border: 0px\; font-variant-numeric: inherit\; font-variant-east-asian: inherit\; font-stretch: inherit\; line-height: inherit\; font-family: &quot\;Proxima N W01 Light&quot\;\, Helvetica\, Arial\, sans-serif\; font-size: 18px\; vertical-align: baseline\; list-style-position: outside\; list-style-image: initial\; color: rgb(49\, 49\, 49)\;">\n	<li style="box-sizing: border-box\; margin: 0px 0px 20px\; padding: 0px\; border: 0px\; font-style: inherit\; font-variant: inherit\; font-weight: inherit\; font-stretch: inherit\; line-height: 1.7\; font-family: inherit\; vertical-align: baseline\;"><span class="JsGRdQ" style="box-sizing: border-box\; margin: 0px\; padding: 0px\; border: 0px\; font-style: inherit\; font-variant: inherit\; font-weight: inherit\; font-stretch: inherit\; line-height: inherit\; font-family: inherit\; vertical-align: baseline\;">How to create topics</span></li>\n	<li style="box-sizing: border-box\; margin: 0px 0px 20px\; padding: 0px\; border: 0px\; font-style: inherit\; font-variant: inherit\; font-weight: inherit\; font-stretch: inherit\; line-height: 1.7\; font-family: inherit\; vertical-align: baseline\;"><span class="JsGRdQ" style="box-sizing: border-box\; margin: 0px\; padding: 0px\; border: 0px\; font-style: inherit\; font-variant: inherit\; font-weight: inherit\; font-stretch: inherit\; line-height: inherit\; font-family: inherit\; vertical-align: baseline\;">Writing and editing</span></li>\n	<li style="box-sizing: border-box\; margin: 0px 0px 20px\; padding: 0px\; border: 0px\; font-style: inherit\; font-variant: inherit\; font-weight: inherit\; font-stretch: inherit\; line-height: 1.7\; font-family: inherit\; vertical-align: baseline\;"><span class="JsGRdQ" style="box-sizing: border-box\; margin: 0px\; padding: 0px\; border: 0px\; font-style: inherit\; font-variant: inherit\; font-weight: inherit\; font-stretch: inherit\; line-height: inherit\; font-family: inherit\; vertical-align: baseline\;">Research and SEO</span></li>\n	<li style="box-sizing: border-box\; margin: 0px 0px 20px\; padding: 0px\; border: 0px\; font-style: inherit\; font-variant: inherit\; font-weight: inherit\; font-stretch: inherit\; line-height: 1.7\; font-family: inherit\; vertical-align: baseline\;"><span class="JsGRdQ" style="box-sizing: border-box\; margin: 0px\; padding: 0px\; border: 0px\; font-style: inherit\; font-variant: inherit\; font-weight: inherit\; font-stretch: inherit\; line-height: inherit\; font-family: inherit\; vertical-align: baseline\;">Promotion strategies</span></li>\n	<li style="box-sizing: border-box\; margin: 0px 0px 20px\; padding: 0px\; border: 0px\; font-style: inherit\; font-variant: inherit\; font-weight: inherit\; font-stretch: inherit\; line-height: 1.7\; font-family: inherit\; vertical-align: baseline\;"><span class="JsGRdQ" style="box-sizing: border-box\; margin: 0px\; padding: 0px\; border: 0px\; font-style: inherit\; font-variant: inherit\; font-weight: inherit\; font-stretch: inherit\; line-height: inherit\; font-family: inherit\; vertical-align: baseline\;">Live Q &amp\; A</span></li>\n</ul>\n
LOCATION:VIRTUAL - REGISTER HERE
UID:e.2438.5324
SEQUENCE:3
DTSTAMP:20260421T105545Z
URL:https://business.hbchamber.net/events/details/sbdc-la-blogging-for-your-business-5324
END:VEVENT

END:VCALENDAR
