BEGIN:VCALENDAR
VERSION:2.0
PRODID:-//ChamberMaster//Event Calendar 2.0//EN
METHOD:PUBLISH
X-PUBLISHED-TTL:P3D
REFRESH-INTERVAL:P3D
CALSCALE:GREGORIAN
BEGIN:VEVENT
DTSTART:20220209T010000Z
DTEND:20220209T023000Z
X-MICROSOFT-CDO-ALLDAYEVENT:FALSE
SUMMARY:SBDC LA: Basics of SEO & Web Analytics
DESCRIPTION:Business owners and entrepreneurs must promote their business or products to investors\, customers or clients. Often this is something they have never done before\, and they lack training to approach the challenge. To address this situation\, this workshop has been built to help you learn much of what you need to know.\n\nTopics covered include:\n\n  The psychological barriers that could be holding you back and the tools required to overcome them.\n\n  Understanding the components of an effective sales pitch.\n\n  Learning the tools necessary to build an effective pitch for your business/product.\n\n  The sales process\, including how to develop a plan to address each client's needs and set realistic goals for yourself
X-ALT-DESC;FMTTYPE=text/html:<p style="box-sizing: border-box\; margin: 0px 0px 10px\; padding: 0px\; border: 0px\; font-variant-numeric: inherit\; font-variant-east-asian: inherit\; font-stretch: inherit\; line-height: 1.7\; font-family: &quot\;Proxima N W01 Light&quot\;\, Helvetica\, Arial\, sans-serif\; font-size: 18px\; vertical-align: baseline\; color: rgb(49\, 49\, 49)\;">Business owners and entrepreneurs must promote their business or products to investors\, customers or clients. Often this is something they have never done before\, and they lack training to approach the challenge. To address this situation\, this workshop has been built to help you learn much of what you need to know.</p>\n\n<p style="box-sizing: border-box\; margin: 0px 0px 10px\; padding: 0px\; border: 0px\; font-variant-numeric: inherit\; font-variant-east-asian: inherit\; font-stretch: inherit\; line-height: 1.7\; font-family: &quot\;Proxima N W01 Light&quot\;\, Helvetica\, Arial\, sans-serif\; font-size: 18px\; vertical-align: baseline\; color: rgb(49\, 49\, 49)\;"><span style="box-sizing: border-box\; margin: 0px\; padding: 0px\; border: 0px\; font-style: inherit\; font-variant: inherit\; font-weight: inherit\; font-stretch: inherit\; line-height: inherit\; font-family: &quot\;Proxima N W01 Smbd&quot\;\; vertical-align: baseline\;">Topics covered include:</span><br style="box-sizing: border-box\;" />\n&bull\; The psychological barriers that could be holding you back and the tools required to overcome them.<br style="box-sizing: border-box\;" />\n&bull\; Understanding the components of an effective sales pitch.<br style="box-sizing: border-box\;" />\n&bull\; Learning the tools necessary to build an effective pitch for your business/product.<br style="box-sizing: border-box\;" />\n&bull\; The sales process\, including how to develop a plan to address each client&rsquo\;s needs and set realistic goals for yourself</p>\n
LOCATION:VIRTUAL - REGISTER HERE
UID:e.2438.5140
SEQUENCE:3
DTSTAMP:20260421T131322Z
URL:https://business.hbchamber.net/events/details/sbdc-la-basics-of-seo-web-analytics-5140
END:VEVENT

END:VCALENDAR
