BEGIN:VCALENDAR
VERSION:2.0
PRODID:-//ChamberMaster//Event Calendar 2.0//EN
METHOD:PUBLISH
X-PUBLISHED-TTL:P3D
REFRESH-INTERVAL:P3D
CALSCALE:GREGORIAN
BEGIN:VEVENT
DTSTART:20240117T190000Z
DTEND:20240117T200000Z
X-MICROSOFT-CDO-ALLDAYEVENT:FALSE
SUMMARY:SBDC LA: 2023 Goal Setting for Successful Businesses
DESCRIPTION:Come ready to learn Sales Strategies Tips for Your Business as you explore the following:\n\n \n\n\n\nSkill Set vs. Style\n\nPricing\n\nCompetitive Advantage\n\nValue Proposition
X-ALT-DESC;FMTTYPE=text/html:Come ready to learn Sales Strategies Tips for Your Business as you explore the following:<br />\n&nbsp\;<br />\n<br />\nSkill Set vs. Style<br />\nPricing<br />\nCompetitive Advantage<br />\nValue Proposition
LOCATION:VIRTUAL - REGISTER HERE
UID:e.2438.9279
SEQUENCE:3
DTSTAMP:20260421T104659Z
URL:https://business.hbchamber.net/events/details/sbdc-la-2023-goal-setting-for-successful-businesses-9279
END:VEVENT

END:VCALENDAR
