BEGIN:VCALENDAR
VERSION:2.0
PRODID:-//ChamberMaster//Event Calendar 2.0//EN
METHOD:PUBLISH
X-PUBLISHED-TTL:P3D
REFRESH-INTERVAL:P3D
CALSCALE:GREGORIAN
BEGIN:VEVENT
DTSTART:20250518T000000Z
DTEND:20250518T020000Z
X-MICROSOFT-CDO-ALLDAYEVENT:FALSE
SUMMARY:Say Gay South Bay
DESCRIPTION:4th Annual Say Gay South Bay. Join for a fun night to support and raise funds for the LGBTQ Community.Food\, Drinks\, Raffle and Fun! This year funds raised will go to the Human Rights Campaign.
X-ALT-DESC;FMTTYPE=text/html:4th Annual Say Gay South Bay. Join for a fun night to support and raise funds for the LGBTQ Community.Food\, Drinks\, Raffle and Fun! This year funds raised will go to the Human Rights Campaign.
LOCATION:Artesia Bar\, Redondo Beach 1995 Artesia Bl.
UID:e.2438.11527
SEQUENCE:3
DTSTAMP:20260422T225249Z
URL:https://business.hbchamber.net/events/details/say-gay-south-bay-05-17-2025-11527
END:VEVENT

END:VCALENDAR
