BEGIN:VCALENDAR
VERSION:2.0
PRODID:-//ChamberMaster//Event Calendar 2.0//EN
METHOD:PUBLISH
X-PUBLISHED-TTL:P3D
REFRESH-INTERVAL:P3D
CALSCALE:GREGORIAN
BEGIN:VEVENT
DTSTART;VALUE=DATE:20241102
DTEND;VALUE=DATE:20241103
TRANSP:TRANSPARENT
X-MICROSOFT-CDO-ALLDAYEVENT:TRUE
SUMMARY:Sandy Sauté
DESCRIPTION:Pants Off Racing will host its annual Sandy Saut \, a 2-mile beach run on the north side of the Pier to raise awareness for those impacted by pancreatic cancer.\n\n\n\nFor more information and event times\, visit www.pantsoffracing.com.
X-ALT-DESC;FMTTYPE=text/html:Pants Off Racing will host its annual Sandy Saut&eacute\;\, a 2-mile beach run on the north side of the Pier to raise awareness for those impacted by pancreatic cancer.<br />\n<br />\nFor more information and event times\, visit <a href="http://www.pantsoffracing.com">www.pantsoffracing.com</a>.
LOCATION:North Side of the Hermosa Beach Pier
UID:e.2438.10636
SEQUENCE:3
DTSTAMP:20260422T192146Z
URL:https://business.hbchamber.net/events/details/sandy-saut&#233;-10636
END:VEVENT

END:VCALENDAR
