BEGIN:VCALENDAR
VERSION:2.0
PRODID:-//ChamberMaster//Event Calendar 2.0//EN
METHOD:PUBLISH
X-PUBLISHED-TTL:P3D
REFRESH-INTERVAL:P3D
CALSCALE:GREGORIAN
BEGIN:VEVENT
DTSTART:20250329T163000Z
DTEND:20250330T000000Z
X-MICROSOFT-CDO-ALLDAYEVENT:FALSE
SUMMARY:Sandpipers' 33rd Annual Fashion Show & Luncheon
DESCRIPTION:On Sunday\, March 29\, 2025\, Sandpipers will host their 33rd Annual Fashion Show featuring Hale Bob's Spring 2025 collection at The Fairmont Century Plaza Hotel in Century City\, CA.
X-ALT-DESC;FMTTYPE=text/html:On Sunday\, March 29\, 2025\, Sandpipers will host their 33rd Annual Fashion Show featuring Hale Bob&rsquo\;s Spring 2025 collection at The Fairmont Century Plaza Hotel in Century City\, CA.
LOCATION:Fairmont Century Plaza Hotel 2025 Avenue of the Stars Los Angeles\, CA 90067
UID:e.2438.11459
SEQUENCE:3
DTSTAMP:20260422T210716Z
URL:https://business.hbchamber.net/events/details/sandpipers-33rd-annual-fashion-show-luncheon-11459
END:VEVENT

END:VCALENDAR
