BEGIN:VCALENDAR
VERSION:2.0
PRODID:-//ChamberMaster//Event Calendar 2.0//EN
METHOD:PUBLISH
X-PUBLISHED-TTL:P3D
REFRESH-INTERVAL:P3D
CALSCALE:GREGORIAN
BEGIN:VEVENT
DTSTART:20241207T170000Z
DTEND:20241207T200000Z
X-MICROSOFT-CDO-ALLDAYEVENT:FALSE
SUMMARY:Sand Snowman Contest
DESCRIPTION:The weatherman says it's nothing but sand! Bring your shovels\, scarves and mittens because in Hermosa Beach\, we make SANDSNOWMEN! The City of Hermosa Beach brings back this unique holiday tradition that is open to all ages and abilities. Come early and mark your spot for the best Sand Snowman! Prizes will be awarded for Hermosa Beach favorite\, most unique\, most traditional\, best dressed\, and funniest.\n\n\n\nFor more information\, please contact the Community Resources Department at (310) 318-0280.
X-ALT-DESC;FMTTYPE=text/html:The weatherman says it&rsquo\;s nothing but sand! Bring your shovels\, scarves and mittens because in Hermosa Beach\, we make SANDSNOWMEN! The City of Hermosa Beach brings back this unique holiday tradition that is open to all ages and abilities. Come early and mark your spot for the best Sand Snowman! Prizes will be awarded for Hermosa Beach favorite\, most unique\, most traditional\, best dressed\, and funniest.<br />\n<br />\nFor more information\, please contact the Community Resources Department at (310) 318-0280.
LOCATION:15th Street and the Shoreline Hermosa Beach\, CA 90254
UID:e.2438.10641
SEQUENCE:3
DTSTAMP:20260422T173106Z
URL:https://business.hbchamber.net/events/details/sand-snowman-contest-10641
END:VEVENT

END:VCALENDAR
