BEGIN:VCALENDAR
VERSION:2.0
PRODID:-//ChamberMaster//Event Calendar 2.0//EN
METHOD:PUBLISH
X-PUBLISHED-TTL:P3D
REFRESH-INTERVAL:P3D
CALSCALE:GREGORIAN
BEGIN:VEVENT
DTSTART:20250120T020000Z
DTEND:20250120T060000Z
X-MICROSOFT-CDO-ALLDAYEVENT:FALSE
SUMMARY:Saint Rocke Presents: Z Space Flower w/ Bedsweater and Still Fade
DESCRIPTION:Space Flower w/ Bedsweater and Still Fade
X-ALT-DESC;FMTTYPE=text/html:Space Flower w/ Bedsweater and Still Fade
LOCATION:Saint Rocke 142 Pacific Coast Hwy Hermosa Beach\, CA 90254
UID:e.2438.11126
SEQUENCE:3
DTSTAMP:20260422T143729Z
URL:https://business.hbchamber.net/events/details/saint-rocke-presents-z-space-flower-w-bedsweater-and-still-fade-11126
END:VEVENT

END:VCALENDAR
