BEGIN:VCALENDAR
VERSION:2.0
PRODID:-//ChamberMaster//Event Calendar 2.0//EN
METHOD:PUBLISH
X-PUBLISHED-TTL:P3D
REFRESH-INTERVAL:P3D
CALSCALE:GREGORIAN
BEGIN:VEVENT
DTSTART:20250518T030000Z
DTEND:20250518T050000Z
X-MICROSOFT-CDO-ALLDAYEVENT:FALSE
SUMMARY:Saint Rocke presents: Yacht Rock Party with The Windbreakers w/ Olio
DESCRIPTION:Yacht Rock Party with The Windbreakers\n\nw/ Olio\n\nGenre: Yacht Rock
X-ALT-DESC;FMTTYPE=text/html:Yacht Rock Party with&nbsp\;The Windbreakers<br />\nw/ Olio<br />\nGenre: Yacht Rock
LOCATION:Saint Rocke 142 Pacific Coast Hwy\, Hermosa Beach\, CA 90254
UID:e.2438.11616
SEQUENCE:3
DTSTAMP:20260422T225030Z
URL:https://business.hbchamber.net/events/details/saint-rocke-presents-yacht-rock-party-with-the-windbreakers-w-olio-11616
END:VEVENT

END:VCALENDAR
