BEGIN:VCALENDAR
VERSION:2.0
PRODID:-//ChamberMaster//Event Calendar 2.0//EN
METHOD:PUBLISH
X-PUBLISHED-TTL:P3D
REFRESH-INTERVAL:P3D
CALSCALE:GREGORIAN
BEGIN:VEVENT
DTSTART:20241130T030000Z
DTEND:20241130T070000Z
X-MICROSOFT-CDO-ALLDAYEVENT:FALSE
SUMMARY:Saint Rocke Presents Yacht Rock Party w/ The Windbreakers w/ Special Guests
DESCRIPTION:Yacht Rock Party w/ The Windbreakers w/ Special Guests\n\nGenre: Yacht Rock cover band\n\n21+ Only
X-ALT-DESC;FMTTYPE=text/html:Yacht Rock Party w/ The Windbreakers w/ Special Guests<br />\nGenre: Yacht Rock cover band<br />\n21+ Only
LOCATION:Saint Rocke 142 Pacific Coast Hwy\, Hermosa Beach\, CA 90254
UID:e.2438.10769
SEQUENCE:3
DTSTAMP:20260422T194737Z
URL:https://business.hbchamber.net/events/details/saint-rocke-presents-yacht-rock-party-w-the-windbreakers-w-special-guests-10769
END:VEVENT

END:VCALENDAR
