BEGIN:VCALENDAR
VERSION:2.0
PRODID:-//ChamberMaster//Event Calendar 2.0//EN
METHOD:PUBLISH
X-PUBLISHED-TTL:P3D
REFRESH-INTERVAL:P3D
CALSCALE:GREGORIAN
BEGIN:VEVENT
DTSTART:20250503T030000Z
DTEND:20250503T050000Z
X-MICROSOFT-CDO-ALLDAYEVENT:FALSE
SUMMARY:Saint Rocke presents: Whitey Morgan w/ Special Guests
DESCRIPTION:Whitey Morgan\n\nw/ Special Guests\n\nGenre: Country
X-ALT-DESC;FMTTYPE=text/html:Whitey Morgan<br />\nw/ Special Guests<br />\nGenre: Country
LOCATION:Saint Rocke 142 Pacific Coast Hwy\, Hermosa Beach\, CA 90254
UID:e.2438.11604
SEQUENCE:3
DTSTAMP:20260422T225020Z
URL:https://business.hbchamber.net/events/details/saint-rocke-presents-whitey-morgan-w-special-guests-11604
END:VEVENT

END:VCALENDAR
