BEGIN:VCALENDAR
VERSION:2.0
PRODID:-//ChamberMaster//Event Calendar 2.0//EN
METHOD:PUBLISH
X-PUBLISHED-TTL:P3D
REFRESH-INTERVAL:P3D
CALSCALE:GREGORIAN
BEGIN:VEVENT
DTSTART:20241214T030000Z
DTEND:20241214T070000Z
X-MICROSOFT-CDO-ALLDAYEVENT:FALSE
SUMMARY:Saint Rocke Presents: Which One’s Pink: A Tribute to Pink Floyd w/ Special Guests
DESCRIPTION:Which One's Pink: A Tribute to Pink Floyd w/ Special Guests\n\nGenre: Cover Band\n\n21+ Only
X-ALT-DESC;FMTTYPE=text/html:Which One&rsquo\;s Pink: A Tribute to Pink Floyd w/ Special Guests<br />\nGenre: Cover Band<br />\n21+ Only
LOCATION:Saint Rocke 142 Pacific Coast Hwy\, Hermosa Beach\, CA 90254
UID:e.2438.11055
SEQUENCE:3
DTSTAMP:20260422T173929Z
URL:https://business.hbchamber.net/events/details/saint-rocke-presents-which-one-s-pink-a-tribute-to-pink-floyd-w-special-guests-11055
END:VEVENT

END:VCALENDAR
