BEGIN:VCALENDAR
VERSION:2.0
PRODID:-//ChamberMaster//Event Calendar 2.0//EN
METHOD:PUBLISH
X-PUBLISHED-TTL:P3D
REFRESH-INTERVAL:P3D
CALSCALE:GREGORIAN
BEGIN:VEVENT
DTSTART:20250724T023000Z
DTEND:20250724T043000Z
X-MICROSOFT-CDO-ALLDAYEVENT:FALSE
SUMMARY:Saint Rocke presents: Warped Warm Up ft. Sheblime W/ the All GRL Jam
DESCRIPTION:Warped Warm Up ft. \n\nSheblime\n\nW/ the All GRL Jam\n\nGenre: Punk Rock/ Cover\n\n21+ Only\n\n \n\nGritty In Pink's Warped Warmup Tour\, presented by Mad Hippie\, brings together Sheblime\, the All GRL Jam\, and special guests for a night of Warped-themed cover performances\, Mad Hippie beauty giveaways (first 100 people in the door will receive Mad Hippie gift bags)\, and more!\n\n\n\nFeaturing: Jenncity (X-Kittie)\, Alex Windsor (Bad Cop/Bad Cop)\, BodaciousThang\, Izzy T\, Jasmine Crowe\, Tatiana Tate\, Aixa Vilar\, Vashonda Sherra\, Meghan Storm\, Raine Palladino\, Liza Light\, Sabrina Winter\, and hosted by Shiragirl.
X-ALT-DESC;FMTTYPE=text/html:Warped Warm Up ft.&nbsp\;<br />\nSheblime<br />\nW/ the All GRL Jam<br />\nGenre: Punk Rock/ Cover<br />\n21+ Only<br />\n&nbsp\;<br />\nGritty In Pink&rsquo\;s Warped Warmup Tour\, presented by Mad Hippie\, brings together Sheblime\, the All GRL Jam\, and special guests for a night of Warped-themed cover performances\, Mad Hippie beauty giveaways (first 100 people in the door will receive Mad Hippie gift bags)\, and more!<br />\n<br />\nFeaturing: Jenncity (X-Kittie)\, Alex Windsor (Bad Cop/Bad Cop)\, BodaciousThang\, Izzy T\, Jasmine Crowe\, Tatiana Tate\, Aixa Vilar\, Vashonda Sherra\, Meghan Storm\, Raine Palladino\, Liza Light\, Sabrina Winter\, and hosted by Shiragirl.
LOCATION:Saint Rocke 142 Pacific Coast Hwy\, Hermosa Beach\, CA 90254
UID:e.2438.12510
SEQUENCE:3
DTSTAMP:20260423T041425Z
URL:https://business.hbchamber.net/events/details/saint-rocke-presents-warped-warm-up-ft-sheblime-w-the-all-grl-jam-12510
END:VEVENT

END:VCALENDAR
