BEGIN:VCALENDAR
VERSION:2.0
PRODID:-//ChamberMaster//Event Calendar 2.0//EN
METHOD:PUBLISH
X-PUBLISHED-TTL:P3D
REFRESH-INTERVAL:P3D
CALSCALE:GREGORIAN
BEGIN:VEVENT
DTSTART:20250601T030000Z
DTEND:20250601T050000Z
X-MICROSOFT-CDO-ALLDAYEVENT:FALSE
SUMMARY:Saint Rocke presents: Wall of Sound w/ Special Guests
DESCRIPTION:Wall of Sound\n\nw/ Special Guests\n\nGenre: Grateful Dead Tribute
X-ALT-DESC;FMTTYPE=text/html:Wall of Sound<br />\nw/ Special Guests<br />\nGenre: Grateful Dead Tribute
LOCATION:Saint Rocke 142 Pacific Coast Hwy\, Hermosa Beach\, CA 90254
UID:e.2438.11624
SEQUENCE:3
DTSTAMP:20260422T232100Z
URL:https://business.hbchamber.net/events/details/saint-rocke-presents-wall-of-sound-w-special-guests-11624
END:VEVENT

END:VCALENDAR
