BEGIN:VCALENDAR
VERSION:2.0
PRODID:-//ChamberMaster//Event Calendar 2.0//EN
METHOD:PUBLISH
X-PUBLISHED-TTL:P3D
REFRESH-INTERVAL:P3D
CALSCALE:GREGORIAN
BEGIN:VEVENT
DTSTART:20241213T030000Z
DTEND:20241213T070000Z
X-MICROSOFT-CDO-ALLDAYEVENT:FALSE
SUMMARY:Saint Rocke Presents: W4RHORS3 Record Release Party w/ Shambala
DESCRIPTION:W4RHORS3 Record Release Party w/ Shambala\n\nGenre: Jam Band\n\n21+ Only
X-ALT-DESC;FMTTYPE=text/html:W4RHORS3 Record Release Party w/ Shambala<br />\nGenre: Jam Band<br />\n21+ Only<br />\n
LOCATION:Saint Rocke 142 Pacific Coast Hwy\, Hermosa Beach\, CA 90254
UID:e.2438.11035
SEQUENCE:3
DTSTAMP:20260422T173543Z
URL:https://business.hbchamber.net/events/details/saint-rocke-presents-w4rhors3-record-release-party-w-shambala-11035
END:VEVENT

END:VCALENDAR
