BEGIN:VCALENDAR
VERSION:2.0
PRODID:-//ChamberMaster//Event Calendar 2.0//EN
METHOD:PUBLISH
X-PUBLISHED-TTL:P3D
REFRESH-INTERVAL:P3D
CALSCALE:GREGORIAN
BEGIN:VEVENT
DTSTART:20250702T030000Z
DTEND:20250702T050000Z
X-MICROSOFT-CDO-ALLDAYEVENT:FALSE
SUMMARY:Saint Rocke presents: Tiki Tuesday
DESCRIPTION:Surf rock + tiki cocktails + surf movies! It's a vibe! \n\n\n\nThe Royal Rats w/ Special Guests\n\nGenre: Surf Jams\n\n21+ Only
X-ALT-DESC;FMTTYPE=text/html:Surf rock + tiki cocktails + surf movies! It&rsquo\;s a vibe!&nbsp\;<br />\n<br />\nThe Royal Rats w/ Special Guests<br />\nGenre: Surf Jams<br />\n21+ Only
LOCATION:142 Pacific Coast Hwy\, Hermosa Beach\, CA 90254
UID:e.2438.12445
SEQUENCE:3
DTSTAMP:20260423T021627Z
URL:https://business.hbchamber.net/events/details/saint-rocke-presents-tiki-tuesday-12445
END:VEVENT

END:VCALENDAR
