BEGIN:VCALENDAR
VERSION:2.0
PRODID:-//ChamberMaster//Event Calendar 2.0//EN
METHOD:PUBLISH
X-PUBLISHED-TTL:P3D
REFRESH-INTERVAL:P3D
CALSCALE:GREGORIAN
BEGIN:VEVENT
DTSTART:20250629T030000Z
DTEND:20250629T050000Z
X-MICROSOFT-CDO-ALLDAYEVENT:FALSE
SUMMARY:Saint Rocke presents: The Spazmatics
DESCRIPTION:The Spazmatics w/ Special Guests\n\nGenre: 80's Cover Party Band\n\n21+ Only
X-ALT-DESC;FMTTYPE=text/html:The Spazmatics w/ Special Guests<br />\nGenre: 80&rsquo\;s Cover Party Band<br />\n21+ Only
LOCATION:142 Pacific Coast Hwy\, Hermosa Beach\, CA 90254
UID:e.2438.12444
SEQUENCE:3
DTSTAMP:20260423T024017Z
URL:https://business.hbchamber.net/events/details/saint-rocke-presents-the-spazmatics-12444
END:VEVENT

END:VCALENDAR
