BEGIN:VCALENDAR
VERSION:2.0
PRODID:-//ChamberMaster//Event Calendar 2.0//EN
METHOD:PUBLISH
X-PUBLISHED-TTL:P3D
REFRESH-INTERVAL:P3D
CALSCALE:GREGORIAN
BEGIN:VEVENT
DTSTART:20250718T030000Z
DTEND:20250718T050000Z
X-MICROSOFT-CDO-ALLDAYEVENT:FALSE
SUMMARY:Saint Rocke presents: The Saint Rocke-A-Billy Surf Rukus!
DESCRIPTION:The Saint Rocke-A-Billy Surf Rukus!\n\nw/ The Hillbilly Surfers\, Jet Pack & The Vignatis\n\nGenre: Rockabilly\n\n21+ Only\n\n\n\nThe Hillbilly Surfers are a Los Angeles based trio that blend old-time twangy\, country\, guitar songs with classic\, vintage\, surf rock music. A high energy performance that is fun for all ages.\n\n\n\nThe Vignatis gave birth to a genre all their own\; a m lange of gypsy\, rockabilly\, jazz\, and country called Gypsybilly. The Los Angeles based group " deliver fabulous vocals on great tunes\," says Music Connection Magazine. Their unmistakable\, neo-nostalgic sound is a natural musical union so diverse it avoids strict categorization.
X-ALT-DESC;FMTTYPE=text/html:The Saint Rocke-A-Billy Surf Rukus!<br />\nw/ The Hillbilly Surfers\, Jet Pack &amp\; The Vignatis<br />\nGenre: Rockabilly<br />\n21+ Only<br />\n<br />\nThe Hillbilly Surfers are a Los Angeles based trio that blend old-time twangy\, country\, guitar songs with classic\, vintage\, surf rock music. A high energy performance that is fun for all ages.<br />\n<br />\nThe Vignatis gave birth to a genre all their own\; a m&eacute\;lange of gypsy\, rockabilly\, jazz\, and country called Gypsybilly. The Los Angeles based group &ldquo\;&hellip\;deliver fabulous vocals on great tunes\,&rdquo\; says Music Connection Magazine. Their unmistakable\, neo-nostalgic sound is a natural musical union so diverse it avoids strict categorization.
LOCATION:Saint Rocke 142 Pacific Coast Hwy\, Hermosa Beach\, CA 90254
UID:e.2438.12506
SEQUENCE:3
DTSTAMP:20260423T041448Z
URL:https://business.hbchamber.net/events/details/saint-rocke-presents-the-saint-rocke-a-billy-surf-rukus-12506
END:VEVENT

END:VCALENDAR
