BEGIN:VCALENDAR
VERSION:2.0
PRODID:-//ChamberMaster//Event Calendar 2.0//EN
METHOD:PUBLISH
X-PUBLISHED-TTL:P3D
REFRESH-INTERVAL:P3D
CALSCALE:GREGORIAN
BEGIN:VEVENT
DTSTART:20250531T030000Z
DTEND:20250531T050000Z
X-MICROSOFT-CDO-ALLDAYEVENT:FALSE
SUMMARY:Saint Rocke presents: The Petty Breakers w/ Special Guests
DESCRIPTION:The Petty Breakers\n\nw/ Special Guests\n\nGenre: Tom Petty tribute
X-ALT-DESC;FMTTYPE=text/html:The Petty Breakers<br />\nw/ Special Guests<br />\nGenre: Tom Petty tribute
LOCATION:Saint Rocke 142 Pacific Coast Hwy\, Hermosa Beach\, CA 90254
UID:e.2438.11623
SEQUENCE:3
DTSTAMP:20260422T231642Z
URL:https://business.hbchamber.net/events/details/saint-rocke-presents-the-petty-breakers-w-special-guests-11623
END:VEVENT

END:VCALENDAR
