BEGIN:VCALENDAR
VERSION:2.0
PRODID:-//ChamberMaster//Event Calendar 2.0//EN
METHOD:PUBLISH
X-PUBLISHED-TTL:P3D
REFRESH-INTERVAL:P3D
CALSCALE:GREGORIAN
BEGIN:VEVENT
DTSTART:20250512T030000Z
DTEND:20250512T050000Z
X-MICROSOFT-CDO-ALLDAYEVENT:FALSE
SUMMARY:Saint Rocke presents: The Palmer Squares with Jarv and Palmtree
DESCRIPTION:The Palmer Squares\n\nwith Jarv and Palmtree\n\nGenre: Hip Hop
X-ALT-DESC;FMTTYPE=text/html:The Palmer Squares<br />\nwith Jarv and Palmtree<br />\nGenre: Hip Hop
LOCATION:Saint Rocke 142 Pacific Coast Hwy\, Hermosa Beach\, CA 90254
UID:e.2438.11612
SEQUENCE:3
DTSTAMP:20260422T225152Z
URL:https://business.hbchamber.net/events/details/saint-rocke-presents-the-palmer-squares-with-jarv-and-palmtree-11612
END:VEVENT

END:VCALENDAR
