BEGIN:VCALENDAR
VERSION:2.0
PRODID:-//ChamberMaster//Event Calendar 2.0//EN
METHOD:PUBLISH
X-PUBLISHED-TTL:P3D
REFRESH-INTERVAL:P3D
CALSCALE:GREGORIAN
BEGIN:VEVENT
DTSTART:20250125T030000Z
DTEND:20250125T070000Z
X-MICROSOFT-CDO-ALLDAYEVENT:FALSE
SUMMARY:Saint Rocke Presents: The Iron Maidens w/ EMERITUS – Southern California’s Tribute to Ghost
DESCRIPTION:The Iron Maidens w/ EMERITUS   Southern California's Tribute to Ghost
X-ALT-DESC;FMTTYPE=text/html:The Iron Maidens w/ EMERITUS &ndash\; Southern California&rsquo\;s Tribute to Ghost
LOCATION:Saint Rocke 142 Pacific Coast Hwy Hermosa Beach\, CA 90254
UID:e.2438.11128
SEQUENCE:3
DTSTAMP:20260420T183747Z
URL:https://business.hbchamber.net/events/details/saint-rocke-presents-the-iron-maidens-w-emeritus-southern-california-s-tribute-to-ghost-11128
END:VEVENT

END:VCALENDAR
