BEGIN:VCALENDAR
VERSION:2.0
PRODID:-//ChamberMaster//Event Calendar 2.0//EN
METHOD:PUBLISH
X-PUBLISHED-TTL:P3D
REFRESH-INTERVAL:P3D
CALSCALE:GREGORIAN
BEGIN:VEVENT
DTSTART:20241125T020000Z
DTEND:20241125T060000Z
X-MICROSOFT-CDO-ALLDAYEVENT:FALSE
SUMMARY:Saint Rocke Presents The Great North Special w/ Sanford Street
DESCRIPTION:The Great North Special w/ Sanford Street\n\nGenre: Jam Band\n\n21+ Only
X-ALT-DESC;FMTTYPE=text/html:The Great North Special w/ Sanford Street<br />\nGenre: Jam Band<br />\n21+ Only
LOCATION:Saint Rocke 142 Pacific Coast Hwy\, Hermosa Beach\, CA 90254
UID:e.2438.10766
SEQUENCE:3
DTSTAMP:20260422T194831Z
URL:https://business.hbchamber.net/events/details/saint-rocke-presents-the-great-north-special-w-sanford-street-10766
END:VEVENT

END:VCALENDAR
