BEGIN:VCALENDAR
VERSION:2.0
PRODID:-//ChamberMaster//Event Calendar 2.0//EN
METHOD:PUBLISH
X-PUBLISHED-TTL:P3D
REFRESH-INTERVAL:P3D
CALSCALE:GREGORIAN
BEGIN:VEVENT
DTSTART:20250523T030000Z
DTEND:20250523T050000Z
X-MICROSOFT-CDO-ALLDAYEVENT:FALSE
SUMMARY:Saint Rocke presents: The Effigies & Angry Samoans w/ Special Guests
DESCRIPTION:The Effigies & Angry Samoans\n\nw/ Special Guests\n\nGenre: Punk Rock
X-ALT-DESC;FMTTYPE=text/html:The Effigies &amp\; Angry Samoans<br />\nw/ Special Guests<br />\nGenre: Punk Rock
LOCATION:Saint Rocke 142 Pacific Coast Hwy\, Hermosa Beach\, CA 90254
UID:e.2438.11618
SEQUENCE:3
DTSTAMP:20260422T232007Z
URL:https://business.hbchamber.net/events/details/saint-rocke-presents-the-effigies-angry-samoans-w-special-guests-11618
END:VEVENT

END:VCALENDAR
