BEGIN:VCALENDAR
VERSION:2.0
PRODID:-//ChamberMaster//Event Calendar 2.0//EN
METHOD:PUBLISH
X-PUBLISHED-TTL:P3D
REFRESH-INTERVAL:P3D
CALSCALE:GREGORIAN
BEGIN:VEVENT
DTSTART:20241209T010000Z
DTEND:20241209T050000Z
X-MICROSOFT-CDO-ALLDAYEVENT:FALSE
SUMMARY:Saint Rocke Presents: The Alive w/ Joker’s Hand\, Carry the Day & 608 Dropout
DESCRIPTION:The Alive w/ Joker's Hand\, Carry the Day & 608 Dropout\n\nGenre: Punk/Rock\n\n21+ Only
X-ALT-DESC;FMTTYPE=text/html:The Alive w/ Joker&rsquo\;s Hand\, Carry the Day &amp\; 608 Dropout<br />\nGenre: Punk/Rock<br />\n21+ Only
LOCATION:Saint Rocke 142 Pacific Coast Hwy\, Hermosa Beach\, CA 90254
UID:e.2438.11034
SEQUENCE:3
DTSTAMP:20260422T174459Z
URL:https://business.hbchamber.net/events/details/saint-rocke-presents-the-alive-w-joker-s-hand-carry-the-day-608-dropout-11034
END:VEVENT

END:VCALENDAR
