BEGIN:VCALENDAR
VERSION:2.0
PRODID:-//ChamberMaster//Event Calendar 2.0//EN
METHOD:PUBLISH
X-PUBLISHED-TTL:P3D
REFRESH-INTERVAL:P3D
CALSCALE:GREGORIAN
BEGIN:VEVENT
DTSTART:20250517T030000Z
DTEND:20250517T050000Z
X-MICROSOFT-CDO-ALLDAYEVENT:FALSE
SUMMARY:Saint Rocke presents: Super Spreader w/ Black Crystal Wolf Kids
DESCRIPTION:Super Spreader\n\nw/ Black Crystal Wolf Kids
X-ALT-DESC;FMTTYPE=text/html:Super Spreader<br />\nw/ Black Crystal Wolf Kids
LOCATION:Saint Rocke 142 Pacific Coast Hwy\, Hermosa Beach\, CA 90254
UID:e.2438.11615
SEQUENCE:3
DTSTAMP:20260422T225031Z
URL:https://business.hbchamber.net/events/details/saint-rocke-presents-super-spreader-w-black-crystal-wolf-kids-11615
END:VEVENT

END:VCALENDAR
