BEGIN:VCALENDAR
VERSION:2.0
PRODID:-//ChamberMaster//Event Calendar 2.0//EN
METHOD:PUBLISH
X-PUBLISHED-TTL:P3D
REFRESH-INTERVAL:P3D
CALSCALE:GREGORIAN
BEGIN:VEVENT
DTSTART:20250524T030000Z
DTEND:20250524T050000Z
X-MICROSOFT-CDO-ALLDAYEVENT:FALSE
SUMMARY:Saint Rocke presents: Stepping Feet: A tribute to Dave Matthews w/ Cobra Cowboy
DESCRIPTION:Stepping Feet: A tribute to Dave Matthews \n\nw/ Cobra Cowboy\n\nGenre: Rock
X-ALT-DESC;FMTTYPE=text/html:Stepping Feet: A tribute to Dave Matthews&nbsp\;<br />\nw/ Cobra Cowboy<br />\nGenre: Rock
LOCATION:Saint Rocke 142 Pacific Coast Hwy\, Hermosa Beach\, CA 90254
UID:e.2438.11619
SEQUENCE:3
DTSTAMP:20260422T225412Z
URL:https://business.hbchamber.net/events/details/saint-rocke-presents-stepping-feet-a-tribute-to-dave-matthews-w-cobra-cowboy-11619
END:VEVENT

END:VCALENDAR
