BEGIN:VCALENDAR
VERSION:2.0
PRODID:-//ChamberMaster//Event Calendar 2.0//EN
METHOD:PUBLISH
X-PUBLISHED-TTL:P3D
REFRESH-INTERVAL:P3D
CALSCALE:GREGORIAN
BEGIN:VEVENT
DTSTART:20250420T030000Z
DTEND:20250420T050000Z
X-MICROSOFT-CDO-ALLDAYEVENT:FALSE
SUMMARY:Saint Rocke presents: Steely Dead w/ Special Guests
DESCRIPTION:Steely Dead\n\nw/ Special Guests\n\nGenre: Grateful Dead mashed w/ Steely Dan tribute
X-ALT-DESC;FMTTYPE=text/html:Steely Dead<br />\nw/ Special Guests<br />\nGenre: Grateful Dead mashed w/ Steely Dan tribute&nbsp\;<br />\n
LOCATION:Saint Rocke 142 Pacific Coast Hwy\, Hermosa Beach\, CA 90254
UID:e.2438.11589
SEQUENCE:3
DTSTAMP:20260422T210512Z
URL:https://business.hbchamber.net/events/details/saint-rocke-presents-steely-dead-w-special-guests-11589
END:VEVENT

END:VCALENDAR
