BEGIN:VCALENDAR
VERSION:2.0
PRODID:-//ChamberMaster//Event Calendar 2.0//EN
METHOD:PUBLISH
X-PUBLISHED-TTL:P3D
REFRESH-INTERVAL:P3D
CALSCALE:GREGORIAN
BEGIN:VEVENT
DTSTART:20250511T040000Z
DTEND:20250511T060000Z
X-MICROSOFT-CDO-ALLDAYEVENT:FALSE
SUMMARY:Saint Rocke presents: Special C w/ Skeleton Bay Album Release Show w/ Lovely Sunny Day
DESCRIPTION:Special C w/ Skeleton Bay Album Release Show\n\nw/ Lovely Sunny Day\n\nGenre: Punk/Reggae
X-ALT-DESC;FMTTYPE=text/html:Special C w/ Skeleton Bay Album Release Show<br />\nw/ Lovely Sunny Day<br />\nGenre: Punk/Reggae
LOCATION:Saint Rocke 142 Pacific Coast Hwy\, Hermosa Beach\, CA 90254
UID:e.2438.11611
SEQUENCE:3
DTSTAMP:20260422T225441Z
URL:https://business.hbchamber.net/events/details/saint-rocke-presents-special-c-w-skeleton-bay-album-release-show-w-lovely-sunny-day-11611
END:VEVENT

END:VCALENDAR
