BEGIN:VCALENDAR
VERSION:2.0
PRODID:-//ChamberMaster//Event Calendar 2.0//EN
METHOD:PUBLISH
X-PUBLISHED-TTL:P3D
REFRESH-INTERVAL:P3D
CALSCALE:GREGORIAN
BEGIN:VEVENT
DTSTART:20250126T030000Z
DTEND:20250126T070000Z
X-MICROSOFT-CDO-ALLDAYEVENT:FALSE
SUMMARY:Saint Rocke Presents: South Bay Boardrider’s Club 15th Anniversary Present The Pine Mountain Logs
DESCRIPTION:South Bay Boardrider's Club 15th Anniversary Present The Pine Mountain Logs
X-ALT-DESC;FMTTYPE=text/html:South Bay Boardrider&rsquo\;s Club 15th Anniversary Present The Pine Mountain Logs
LOCATION:Saint Rocke 142 Pacific Coast Hwy Hermosa Beach\, CA 90254
UID:e.2438.11129
SEQUENCE:3
DTSTAMP:20260422T143949Z
URL:https://business.hbchamber.net/events/details/saint-rocke-presents-south-bay-boardrider-s-club-15th-anniversary-present-the-pine-mountain-logs-11129
END:VEVENT

END:VCALENDAR
