BEGIN:VCALENDAR
VERSION:2.0
PRODID:-//ChamberMaster//Event Calendar 2.0//EN
METHOD:PUBLISH
X-PUBLISHED-TTL:P3D
REFRESH-INTERVAL:P3D
CALSCALE:GREGORIAN
BEGIN:VEVENT
DTSTART:20250502T030000Z
DTEND:20250502T050000Z
X-MICROSOFT-CDO-ALLDAYEVENT:FALSE
SUMMARY:Saint Rocke presents: Soft Palms w/ Dream Phases
DESCRIPTION:Soft Palms\n\nw/ Dream Phases\n\nGenre: Rock
X-ALT-DESC;FMTTYPE=text/html:Soft Palms<br />\nw/ Dream Phases<br />\nGenre: Rock
LOCATION:Saint Rocke 142 Pacific Coast Hwy\, Hermosa Beach\, CA 90254
UID:e.2438.11603
SEQUENCE:3
DTSTAMP:20260422T224645Z
URL:https://business.hbchamber.net/events/details/saint-rocke-presents-soft-palms-w-dream-phases-11603
END:VEVENT

END:VCALENDAR
