BEGIN:VCALENDAR
VERSION:2.0
PRODID:-//ChamberMaster//Event Calendar 2.0//EN
METHOD:PUBLISH
X-PUBLISHED-TTL:P3D
REFRESH-INTERVAL:P3D
CALSCALE:GREGORIAN
BEGIN:VEVENT
DTSTART:20241116T030000Z
DTEND:20241116T070000Z
X-MICROSOFT-CDO-ALLDAYEVENT:FALSE
SUMMARY:Saint Rocke Presents Saved by the 90’s w/ Special Guests
DESCRIPTION:Saved by the 90's w/ Special Guests\n\nGenre: 90's cover band\n\n21+ Only
X-ALT-DESC;FMTTYPE=text/html:Saved by the 90&rsquo\;s w/ Special Guests<br />\nGenre: 90&rsquo\;s cover band<br />\n21+ Only
LOCATION:Saint Rocke 142 Pacific Coast Hwy\, Hermosa Beach\, CA 90254
UID:e.2438.10760
SEQUENCE:3
DTSTAMP:20260422T192806Z
URL:https://business.hbchamber.net/events/details/saint-rocke-presents-saved-by-the-90-s-w-special-guests-10760
END:VEVENT

END:VCALENDAR
