BEGIN:VCALENDAR
VERSION:2.0
PRODID:-//ChamberMaster//Event Calendar 2.0//EN
METHOD:PUBLISH
X-PUBLISHED-TTL:P3D
REFRESH-INTERVAL:P3D
CALSCALE:GREGORIAN
BEGIN:VEVENT
DTSTART:20241123T020000Z
DTEND:20241123T060000Z
X-MICROSOFT-CDO-ALLDAYEVENT:FALSE
SUMMARY:Saint Rocke Presents ROCK YOUR PINK EVENT feat. The K-TEL ALL-Stars\, Crow Hill Band\, Special guests Charis Rey & Fritz Lewak
DESCRIPTION:ROCK YOUR PINK EVENT feat. The K-TEL ALL-Stars\, Crow Hill Band\, Special guests Charis Rey & Fritz Lewak\n\nGenre: Cover Bands + Fundraiser for cancer\n\n21+ Only\n\n\n\nThis is going to be a Music Benefit for the "Cancer Support Community South Bay" recognizing their contributions to the community in supporting cancer patients in our community.
X-ALT-DESC;FMTTYPE=text/html:ROCK YOUR PINK EVENT feat. The K-TEL ALL-Stars\, Crow Hill Band\, Special guests Charis Rey &amp\; Fritz Lewak<br />\nGenre: Cover Bands + Fundraiser for cancer<br />\n21+ Only<br />\n<br />\nThis is going to be a Music Benefit for the &ldquo\;Cancer Support Community South Bay&rdquo\; recognizing their contributions to the community in supporting cancer patients in our community.
LOCATION:Saint Rocke 142 Pacific Coast Hwy\, Hermosa Beach\, CA 90254
UID:e.2438.10764
SEQUENCE:3
DTSTAMP:20260422T195339Z
URL:https://business.hbchamber.net/events/details/saint-rocke-presents-rock-your-pink-event-feat-the-k-tel-all-stars-crow-hill-band-special-guests-charis-rey-fritz-lewak-10764
END:VEVENT

END:VCALENDAR
