BEGIN:VCALENDAR
VERSION:2.0
PRODID:-//ChamberMaster//Event Calendar 2.0//EN
METHOD:PUBLISH
X-PUBLISHED-TTL:P3D
REFRESH-INTERVAL:P3D
CALSCALE:GREGORIAN
BEGIN:VEVENT
DTSTART:20241128T030000Z
DTEND:20241128T070000Z
X-MICROSOFT-CDO-ALLDAYEVENT:FALSE
SUMMARY:Saint Rocke Presents Red Hot Tribute – The Premier Tribute to Red Hot Chili Peppers w/ Special Guests
DESCRIPTION:Red Hot Tribute   The Premier Tribute to Red Hot Chili Peppers w/ Special Guests\n\nGenre: Rock\n\n21+ Only
X-ALT-DESC;FMTTYPE=text/html:Red Hot Tribute &ndash\; The Premier Tribute to Red Hot Chili Peppers w/ Special Guests<br />\nGenre: Rock<br />\n21+ Only
LOCATION:Saint Rocke 142 Pacific Coast Hwy\, Hermosa Beach\, CA 90254
UID:e.2438.10768
SEQUENCE:3
DTSTAMP:20260423T125545Z
URL:https://business.hbchamber.net/events/details/saint-rocke-presents-red-hot-tribute-the-premier-tribute-to-red-hot-chili-peppers-w-special-guests-10768
END:VEVENT

END:VCALENDAR
