BEGIN:VCALENDAR
VERSION:2.0
PRODID:-//ChamberMaster//Event Calendar 2.0//EN
METHOD:PUBLISH
X-PUBLISHED-TTL:P3D
REFRESH-INTERVAL:P3D
CALSCALE:GREGORIAN
BEGIN:VEVENT
DTSTART:20241124T030000Z
DTEND:20241124T070000Z
X-MICROSOFT-CDO-ALLDAYEVENT:FALSE
SUMMARY:Saint Rocke Presents Queen Nation w/ Special Guests
DESCRIPTION:Queen Nation w/ Special Guests\n\nGenre: Queen Cover Band\n\n21+ Only
X-ALT-DESC;FMTTYPE=text/html:Queen Nation w/ Special Guests<br />\nGenre: Queen Cover Band<br />\n21+ Only
LOCATION:Saint Rocke 142 Pacific Coast Hwy\, Hermosa Beach\, CA 90254
UID:e.2438.10765
SEQUENCE:3
DTSTAMP:20260422T192719Z
URL:https://business.hbchamber.net/events/details/saint-rocke-presents-queen-nation-w-special-guests-10765
END:VEVENT

END:VCALENDAR
