BEGIN:VCALENDAR
VERSION:2.0
PRODID:-//ChamberMaster//Event Calendar 2.0//EN
METHOD:PUBLISH
X-PUBLISHED-TTL:P3D
REFRESH-INTERVAL:P3D
CALSCALE:GREGORIAN
BEGIN:VEVENT
DTSTART:20250418T030000Z
DTEND:20250418T050000Z
X-MICROSOFT-CDO-ALLDAYEVENT:FALSE
SUMMARY:Saint Rocke presents: Punk Rock Karaoke ft. Members of Bad Religion\, Pennywise\, Circle Jerks\, Goldfinger & The Dickies
DESCRIPTION:Punk Rock Karaoke ft. Members of Bad Religion\, Pennywise\, Circle Jerks\, Goldfinger & The Dickies \n\nSpecial Guests: The Clams\n\nGenre: Punk Karaoke
X-ALT-DESC;FMTTYPE=text/html:Punk Rock Karaoke ft. Members of Bad Religion\, Pennywise\, Circle Jerks\, Goldfinger &amp\; The Dickies&nbsp\;<br />\nSpecial Guests: The Clams<br />\nGenre: Punk Karaoke
LOCATION:Saint Rocke 142 Pacific Coast Hwy\, Hermosa Beach\, CA 90254
UID:e.2438.11587
SEQUENCE:3
DTSTAMP:20260422T212149Z
URL:https://business.hbchamber.net/events/details/saint-rocke-presents-punk-rock-karaoke-ft-members-of-bad-religion-pennywise-circle-jerks-goldfinger-the-dickies-11587
END:VEVENT

END:VCALENDAR
