BEGIN:VCALENDAR
VERSION:2.0
PRODID:-//ChamberMaster//Event Calendar 2.0//EN
METHOD:PUBLISH
X-PUBLISHED-TTL:P3D
REFRESH-INTERVAL:P3D
CALSCALE:GREGORIAN
BEGIN:VEVENT
DTSTART:20241202T000000Z
DTEND:20241202T040000Z
X-MICROSOFT-CDO-ALLDAYEVENT:FALSE
SUMMARY:Saint Rocke Presents: PCH Ponderosa feat. Hard Rooster w/ Special Guests
DESCRIPTION:PCH Ponderosa feat. Hard Rooster w/ Special Guests\n\nGenre: Country\n\n21+ Only
X-ALT-DESC;FMTTYPE=text/html:PCH Ponderosa feat. Hard Rooster w/ Special Guests<br />\nGenre: Country<br />\n21+ Only
LOCATION:Saint Rocke 142 Pacific Coast Hwy\, Hermosa Beach\, CA 90254
UID:e.2438.11030
SEQUENCE:3
DTSTAMP:20260422T173930Z
URL:https://business.hbchamber.net/events/details/saint-rocke-presents-pch-ponderosa-feat-hard-rooster-w-special-guests-11030
END:VEVENT

END:VCALENDAR
