BEGIN:VCALENDAR
VERSION:2.0
PRODID:-//ChamberMaster//Event Calendar 2.0//EN
METHOD:PUBLISH
X-PUBLISHED-TTL:P3D
REFRESH-INTERVAL:P3D
CALSCALE:GREGORIAN
BEGIN:VEVENT
DTSTART:20250106T000000Z
DTEND:20250106T040000Z
X-MICROSOFT-CDO-ALLDAYEVENT:FALSE
SUMMARY:Saint Rocke Presents: PCH Ponderosa feat. Hard Rooster & John Surge and The Haymakers
DESCRIPTION:PCH Ponderosa feat. Hard Rooster & John Surge and The Haymakers
X-ALT-DESC;FMTTYPE=text/html:PCH Ponderosa feat. Hard Rooster &amp\; John Surge and The Haymakers
LOCATION:Saint Rocke 142 Pacific Coast Hwy Hermosa Beach\, CA 90254
UID:e.2438.11117
SEQUENCE:3
DTSTAMP:20260422T143950Z
URL:https://business.hbchamber.net/events/details/saint-rocke-presents-pch-ponderosa-feat-hard-rooster-john-surge-and-the-haymakers-11117
END:VEVENT

END:VCALENDAR
