BEGIN:VCALENDAR
VERSION:2.0
PRODID:-//ChamberMaster//Event Calendar 2.0//EN
METHOD:PUBLISH
X-PUBLISHED-TTL:P3D
REFRESH-INTERVAL:P3D
CALSCALE:GREGORIAN
BEGIN:VEVENT
DTSTART:20241109T030000Z
DTEND:20241109T070000Z
X-MICROSOFT-CDO-ALLDAYEVENT:FALSE
SUMMARY:Saint Rocke Presents Patty Smyth w/ Midway
DESCRIPTION:Patty Smyth w/ Midway\n\nGenre: Singer-Songwriter\n\n21+ Only
X-ALT-DESC;FMTTYPE=text/html:Patty Smyth w/ Midway<br />\nGenre: Singer-Songwriter<br />\n21+ Only<br />\n
LOCATION:Saint Rocke 142 Pacific Coast Hwy\, Hermosa Beach\, CA 90254
UID:e.2438.10755
SEQUENCE:3
DTSTAMP:20260422T192538Z
URL:https://business.hbchamber.net/events/details/saint-rocke-presents-patty-smyth-w-midway-10755
END:VEVENT

END:VCALENDAR
