BEGIN:VCALENDAR
VERSION:2.0
PRODID:-//ChamberMaster//Event Calendar 2.0//EN
METHOD:PUBLISH
X-PUBLISHED-TTL:P3D
REFRESH-INTERVAL:P3D
CALSCALE:GREGORIAN
BEGIN:VEVENT
DTSTART:20250530T030000Z
DTEND:20250530T050000Z
X-MICROSOFT-CDO-ALLDAYEVENT:FALSE
SUMMARY:Saint Rocke presents: Nu Peopul w/ Dirty Dom & The Vibe
DESCRIPTION:Nu Peopul w/ Dirty Dom & The Vibe\n\nGenre: Jazz
X-ALT-DESC;FMTTYPE=text/html:Nu Peopul w/ Dirty Dom &amp\; The Vibe<br />\nGenre: Jazz
LOCATION:Saint Rocke 142 Pacific Coast Hwy\, Hermosa Beach\, CA 90254
UID:e.2438.11622
SEQUENCE:3
DTSTAMP:20260422T232242Z
URL:https://business.hbchamber.net/events/details/saint-rocke-presents-nu-peopul-w-dirty-dom-the-vibe-11622
END:VEVENT

END:VCALENDAR
