BEGIN:VCALENDAR
VERSION:2.0
PRODID:-//ChamberMaster//Event Calendar 2.0//EN
METHOD:PUBLISH
X-PUBLISHED-TTL:P3D
REFRESH-INTERVAL:P3D
CALSCALE:GREGORIAN
BEGIN:VEVENT
DTSTART:20250510T030000Z
DTEND:20250510T050000Z
X-MICROSOFT-CDO-ALLDAYEVENT:FALSE
SUMMARY:Saint Rocke presents: Nirvanish & Renegades of Rage
DESCRIPTION:Nirvanish & Renegades of Rage\n\nGenre: Nirvana & Rage Against the Machine tribute
X-ALT-DESC;FMTTYPE=text/html:Nirvanish &amp\; Renegades of Rage<br />\nGenre: Nirvana &amp\; Rage Against the Machine tribute
LOCATION:Saint Rocke 142 Pacific Coast Hwy\, Hermosa Beach\, CA 90254
UID:e.2438.11610
SEQUENCE:3
DTSTAMP:20260422T225126Z
URL:https://business.hbchamber.net/events/details/saint-rocke-presents-nirvanish-renegades-of-rage-11610
END:VEVENT

END:VCALENDAR
