BEGIN:VCALENDAR
VERSION:2.0
PRODID:-//ChamberMaster//Event Calendar 2.0//EN
METHOD:PUBLISH
X-PUBLISHED-TTL:P3D
REFRESH-INTERVAL:P3D
CALSCALE:GREGORIAN
BEGIN:VEVENT
DTSTART:20250105T030000Z
DTEND:20250105T070000Z
X-MICROSOFT-CDO-ALLDAYEVENT:FALSE
SUMMARY:Saint Rocke Presents: Missus Jones: A Tribute to Amy Winehouse
DESCRIPTION:Missus Jones: A Tribute to Amy Winehouse
X-ALT-DESC;FMTTYPE=text/html:Missus Jones: A Tribute to Amy Winehouse
LOCATION:Saint Rocke 142 Pacific Coast Hwy Hermosa Beach\, CA 90254
UID:e.2438.11115
SEQUENCE:3
DTSTAMP:20260422T162022Z
URL:https://business.hbchamber.net/events/details/saint-rocke-presents-missus-jones-a-tribute-to-amy-winehouse-11115
END:VEVENT

END:VCALENDAR
