BEGIN:VCALENDAR
VERSION:2.0
PRODID:-//ChamberMaster//Event Calendar 2.0//EN
METHOD:PUBLISH
X-PUBLISHED-TTL:P3D
REFRESH-INTERVAL:P3D
CALSCALE:GREGORIAN
BEGIN:VEVENT
DTSTART:20250104T030000Z
DTEND:20250104T070000Z
X-MICROSOFT-CDO-ALLDAYEVENT:FALSE
SUMMARY:Saint Rocke Presents: Missing Persons w/ Bow Wow Wow and Midway
DESCRIPTION:Missing Persons w/ Bow Wow Wow and Midway
X-ALT-DESC;FMTTYPE=text/html:Missing Persons w/ Bow Wow Wow and Midway
LOCATION:Saint Rocke 142 Pacific Coast Hwy Hermosa Beach\, CA 90254
UID:e.2438.11114
SEQUENCE:3
DTSTAMP:20260422T142211Z
URL:https://business.hbchamber.net/events/details/saint-rocke-presents-missing-persons-w-bow-wow-wow-and-midway-11114
END:VEVENT

END:VCALENDAR
