BEGIN:VCALENDAR
VERSION:2.0
PRODID:-//ChamberMaster//Event Calendar 2.0//EN
METHOD:PUBLISH
X-PUBLISHED-TTL:P3D
REFRESH-INTERVAL:P3D
CALSCALE:GREGORIAN
BEGIN:VEVENT
DTSTART:20250727T030000Z
DTEND:20250727T050000Z
X-MICROSOFT-CDO-ALLDAYEVENT:FALSE
SUMMARY:Saint Rocke presents: Mickey Avalon w/ Special Guests
DESCRIPTION:Mickey Avalon\n\nw/ Special Guests\n\nGenre: Rap/Hip Hop\n\n21+ Only
X-ALT-DESC;FMTTYPE=text/html:Mickey Avalon<br />\nw/ Special Guests<br />\nGenre: Rap/Hip Hop<br />\n21+ Only
LOCATION:Saint Rocke 142 Pacific Coast Hwy\, Hermosa Beach\, CA 90254
UID:e.2438.12512
SEQUENCE:3
DTSTAMP:20260423T041130Z
URL:https://business.hbchamber.net/events/details/saint-rocke-presents-mickey-avalon-w-special-guests-12512
END:VEVENT

END:VCALENDAR
