BEGIN:VCALENDAR
VERSION:2.0
PRODID:-//ChamberMaster//Event Calendar 2.0//EN
METHOD:PUBLISH
X-PUBLISHED-TTL:P3D
REFRESH-INTERVAL:P3D
CALSCALE:GREGORIAN
BEGIN:VEVENT
DTSTART:20250504T230000Z
DTEND:20250505T010000Z
X-MICROSOFT-CDO-ALLDAYEVENT:FALSE
SUMMARY:Saint Rocke presents: “May the 4th Seduce You” Saint Rocke Burlesque w/ Special Guests
DESCRIPTION:"May the 4th Seduce You" Saint Rocke Burlesque\n\nw/ Special Guests
X-ALT-DESC;FMTTYPE=text/html:&ldquo\;May the 4th Seduce You&rdquo\; Saint Rocke Burlesque<br />\nw/ Special Guests
LOCATION:Saint Rocke 142 Pacific Coast Hwy\, Hermosa Beach\, CA 90254
UID:e.2438.11606
SEQUENCE:3
DTSTAMP:20260422T225412Z
URL:https://business.hbchamber.net/events/details/saint-rocke-presents-may-the-4th-seduce-you-saint-rocke-burlesque-w-special-guests-11606
END:VEVENT

END:VCALENDAR
